BEGIN:VCALENDAR
VERSION:2.0
PRODID:-//Executive Women of the Palm Beaches Foundation, Inc - ECPv6.15.11//NONSGML v1.0//EN
CALSCALE:GREGORIAN
METHOD:PUBLISH
X-WR-CALNAME:Executive Women of the Palm Beaches Foundation, Inc
X-ORIGINAL-URL:https://ewpb.org
X-WR-CALDESC:Events for Executive Women of the Palm Beaches Foundation, Inc
REFRESH-INTERVAL;VALUE=DURATION:PT1H
X-Robots-Tag:noindex
X-PUBLISHED-TTL:PT1H
BEGIN:VTIMEZONE
TZID:America/New_York
BEGIN:DAYLIGHT
TZOFFSETFROM:-0500
TZOFFSETTO:-0400
TZNAME:EDT
DTSTART:20230312T070000
END:DAYLIGHT
BEGIN:STANDARD
TZOFFSETFROM:-0400
TZOFFSETTO:-0500
TZNAME:EST
DTSTART:20231105T060000
END:STANDARD
BEGIN:DAYLIGHT
TZOFFSETFROM:-0500
TZOFFSETTO:-0400
TZNAME:EDT
DTSTART:20240310T070000
END:DAYLIGHT
BEGIN:STANDARD
TZOFFSETFROM:-0400
TZOFFSETTO:-0500
TZNAME:EST
DTSTART:20241103T060000
END:STANDARD
BEGIN:DAYLIGHT
TZOFFSETFROM:-0500
TZOFFSETTO:-0400
TZNAME:EDT
DTSTART:20250309T070000
END:DAYLIGHT
BEGIN:STANDARD
TZOFFSETFROM:-0400
TZOFFSETTO:-0500
TZNAME:EST
DTSTART:20251102T060000
END:STANDARD
END:VTIMEZONE
BEGIN:VEVENT
DTSTART;TZID=America/New_York:20241210T113000
DTEND;TZID=America/New_York:20241210T130000
DTSTAMP:20260419T235445
CREATED:20240613T174205Z
LAST-MODIFIED:20241204T171357Z
UID:10171-1733830200-1733835600@ewpb.org
SUMMARY:Holiday Luncheon
DESCRIPTION:Registration is now closed; see you there!  Parking details: To be announced.
URL:https://ewpb.org/event/holiday-luncheon/
LOCATION:The Club at Admirals Cove\, 200 Admirals Cove Blvd\, Jupiter\, 33477\, United States
CATEGORIES:Member Event Calendar,Public Event Calendar
ATTACH;FMTTYPE=image/jpeg:https://ewpb.org/wp-content/uploads/2024/06/Holiday-Luncheon-Flyer-V4.jpg
END:VEVENT
END:VCALENDAR