BEGIN:VCALENDAR
VERSION:2.0
PRODID:-//Executive Women of the Palm Beaches Foundation, Inc - ECPv6.15.11//NONSGML v1.0//EN
CALSCALE:GREGORIAN
METHOD:PUBLISH
X-WR-CALNAME:Executive Women of the Palm Beaches Foundation, Inc
X-ORIGINAL-URL:https://ewpb.org
X-WR-CALDESC:Events for Executive Women of the Palm Beaches Foundation, Inc
REFRESH-INTERVAL;VALUE=DURATION:PT1H
X-Robots-Tag:noindex
X-PUBLISHED-TTL:PT1H
BEGIN:VTIMEZONE
TZID:America/New_York
BEGIN:DAYLIGHT
TZOFFSETFROM:-0500
TZOFFSETTO:-0400
TZNAME:EDT
DTSTART:20240310T070000
END:DAYLIGHT
BEGIN:STANDARD
TZOFFSETFROM:-0400
TZOFFSETTO:-0500
TZNAME:EST
DTSTART:20241103T060000
END:STANDARD
BEGIN:DAYLIGHT
TZOFFSETFROM:-0500
TZOFFSETTO:-0400
TZNAME:EDT
DTSTART:20250309T070000
END:DAYLIGHT
BEGIN:STANDARD
TZOFFSETFROM:-0400
TZOFFSETTO:-0500
TZNAME:EST
DTSTART:20251102T060000
END:STANDARD
BEGIN:DAYLIGHT
TZOFFSETFROM:-0500
TZOFFSETTO:-0400
TZNAME:EDT
DTSTART:20260308T070000
END:DAYLIGHT
BEGIN:STANDARD
TZOFFSETFROM:-0400
TZOFFSETTO:-0500
TZNAME:EST
DTSTART:20261101T060000
END:STANDARD
END:VTIMEZONE
BEGIN:VEVENT
DTSTART;TZID=America/New_York:20250109T160000
DTEND;TZID=America/New_York:20250109T180000
DTSTAMP:20260419T203429
CREATED:20241030T163212Z
LAST-MODIFIED:20241205T183606Z
UID:10827-1736438400-1736445600@ewpb.org
SUMMARY:Seat at the Table: Baptist Health
DESCRIPTION:Generously hosted by Mary Blum\, join us for this exclusive EWPB Members Only event to learn about leadership development strategies that work\, strengthening the workplace environment and the most effective ways to engage people across all facets of your business. Baptist Health is the largest healthcare organization in the region\, with 11 hospitals\, more than 27\,000 employees\, 4\,000 physicians and 200 outpatient centers\, urgent care facilities and physician practices spanning across Miami-Dade\, Monroe\, Broward and Palm Beach counties. 								\n				\n					\n		\n					\n		\n				\n						\n					\n			\n						\n				\n									\n					\n						\n									Members Only: Register Here
URL:https://ewpb.org/event/seat-at-the-table-baptist-healt/
LOCATION:Delray Dunes Golf & Country Club\, 12005 Dunes Rd\, Boynton Beach\, 33436\, United States
CATEGORIES:Member Event Calendar,Public Event Calendar
ATTACH;FMTTYPE=image/jpeg:https://ewpb.org/wp-content/uploads/2024/10/SATT-V8.jpg
END:VEVENT
END:VCALENDAR