BEGIN:VCALENDAR
VERSION:2.0
PRODID:-//Executive Women of the Palm Beaches Foundation, Inc - ECPv6.15.11//NONSGML v1.0//EN
CALSCALE:GREGORIAN
METHOD:PUBLISH
X-WR-CALNAME:Executive Women of the Palm Beaches Foundation, Inc
X-ORIGINAL-URL:https://ewpb.org
X-WR-CALDESC:Events for Executive Women of the Palm Beaches Foundation, Inc
REFRESH-INTERVAL;VALUE=DURATION:PT1H
X-Robots-Tag:noindex
X-PUBLISHED-TTL:PT1H
BEGIN:VTIMEZONE
TZID:America/New_York
BEGIN:DAYLIGHT
TZOFFSETFROM:-0500
TZOFFSETTO:-0400
TZNAME:EDT
DTSTART:20240310T070000
END:DAYLIGHT
BEGIN:STANDARD
TZOFFSETFROM:-0400
TZOFFSETTO:-0500
TZNAME:EST
DTSTART:20241103T060000
END:STANDARD
BEGIN:DAYLIGHT
TZOFFSETFROM:-0500
TZOFFSETTO:-0400
TZNAME:EDT
DTSTART:20250309T070000
END:DAYLIGHT
BEGIN:STANDARD
TZOFFSETFROM:-0400
TZOFFSETTO:-0500
TZNAME:EST
DTSTART:20251102T060000
END:STANDARD
BEGIN:DAYLIGHT
TZOFFSETFROM:-0500
TZOFFSETTO:-0400
TZNAME:EDT
DTSTART:20260308T070000
END:DAYLIGHT
BEGIN:STANDARD
TZOFFSETFROM:-0400
TZOFFSETTO:-0500
TZNAME:EST
DTSTART:20261101T060000
END:STANDARD
END:VTIMEZONE
BEGIN:VEVENT
DTSTART;TZID=America/New_York:20250116T173000
DTEND;TZID=America/New_York:20250116T193000
DTSTAMP:20260419T173140
CREATED:20240710T182021Z
LAST-MODIFIED:20241230T153742Z
UID:10352-1737048600-1737055800@ewpb.org
SUMMARY:Speed Networking Event
DESCRIPTION:Join us for an empowering and dynamic Speed Networking event hosted by EWPBF and Daniela Hansen with Team Logiq IT!\n\nThis exciting event is designed to foster connections\, spark collaborations\, and open doors to new opportunities for women in various industries. Whether you’re an emerging leader\, an established professional\, or an entrepreneur\, this is your chance to meet like-minded women\, exchange ideas\, and build a robust network in a supportive and energizing environment.\n\nWhat to Expect:\n\n 	Rapid-Fire Networking: Engage in short\, focused conversations with a diverse group of professionals. Each round lasts just a few minutes\, giving you the opportunity to make numerous connections throughout the evening.\n 	Diverse Attendees: Connect with women from different sectors\, including business\, technology\, healthcare\, and non-profits. Expand your network with individuals who bring varied perspectives and expertise.\n\nWhy Attend?\n\n 	Build Your Network: Create meaningful connections with professionals who share your goals and interests.\n 	Explore Opportunities: Discover potential collaborations\, partnerships\, and career advancements.\n 	Gain Inspiration: Be motivated by successful women leaders and learn from their journeys.\n\nRSVP Today! Spots are limited\, so be sure to secure your place early. Don’t miss this opportunity to elevate your career and join a vibrant community of women dedicated to supporting each other’s success.								\n				\n					\n		\n					\n		\n				\n						\n					\n			\n						\n				\n									\n					\n						\n									Register Here!
URL:https://ewpb.org/event/speed-networking-event/
LOCATION:The Palm Beach Post\, 2751 N. Dixie Hwy.\, West Palm Beach\, FL\, 33405\, United States
CATEGORIES:Member Event Calendar,Public Event Calendar
ATTACH;FMTTYPE=image/jpeg:https://ewpb.org/wp-content/uploads/2024/07/Speed-Networking-Event-V4.jpg
END:VEVENT
END:VCALENDAR